BEGIN:VCALENDAR
VERSION:2.0
PRODID:-//Cancer Wellness Center//Events//EN
CALSCALE:GREGORIAN
METHOD:PUBLISH
BEGIN:VEVENT
DTSTART:20260313T140000Z
DTEND:20260313T150000Z
DTSTAMP:20260420T095003Z
UID:urn:uuid:c6a33339-d242-4017-8e89-2ab033c5bee4
SUMMARY:Park Ridge: Virtual Strength and Conditioning
DESCRIPTION:This class is for cancer patients and survivors only. The focus
  of this class will be to improve strength\, stamina and flexibility. All l
 evels of fitness welcome. Using any of your own equipment is encouraged.\n\
 nSupported by Advocate Lutheran General Hospital\n\nTo register online: Cl
 ick here\n\nPlease call or email Samantha Daniel with any questions:\n\n847
 .723.5690\n\nSamantha.daniel@aah.org
URL;VALUE=URI:https://www.cancerwellness.org/events/park-ridge-virtual-stre
 ngth-and-conditioning-43/
END:VEVENT
END:VCALENDAR
