BEGIN:VCALENDAR
VERSION:2.0
PRODID:-//Cancer Wellness Center//Events//EN
CALSCALE:GREGORIAN
METHOD:PUBLISH
BEGIN:VEVENT
DTSTART:20260509T150000Z
DTEND:20260509T163000Z
DTSTAMP:20260420T014550Z
UID:urn:uuid:611baa04-f42d-4546-aff7-84163e15df3a
SUMMARY:Pediatric Cancer Meet-Up (Ages 4-7)
DESCRIPTION:Pediatric patients and their siblings ages 4–7 are invited to
  join us for an interactive morning of games\, arts and crafts\, and fun! T
 his welcoming social event provides young children with the opportunity to 
 make friends\, express themselves creatively\, and connect with others who 
 share similar experiences—all in a comfortable and supportive environment
 .\n\nParents and caregivers are welcome to relax and stay nearby in our lib
 rary during the program.\n\nEligibility:\n\n \nOpen to children who have a 
 cancer diagnosis (newly diagnosed\, in-treatment or post-treatment) and the
 ir siblings\n \nAll children\, including siblings\, must be between the age
 s of 4-7 years old\n\nRegistration is required for each child. \n\nFor more
  information\, please contact our Child Life Specialist\, Elyssa Siegel at 
 esiegel@cancerwellness.org.
LOCATION:215 Revere Dr
URL;VALUE=URI:https://www.cancerwellness.org/events/pediatric-cancer-meet-u
 p-ages-4-7/
END:VEVENT
END:VCALENDAR
