BEGIN:VCALENDAR
VERSION:2.0
PRODID:-//Cancer Wellness Center//Events//EN
CALSCALE:GREGORIAN
METHOD:PUBLISH
BEGIN:VEVENT
DTSTART:20260609T210000Z
DTEND:20260609T220000Z
DTSTAMP:20260423T044353Z
UID:urn:uuid:bb1de24d-5a19-47fd-91ff-17a58cb6e9e5
SUMMARY:Therapy Dog Meet and Greet
DESCRIPTION:Join us for a relaxing and enjoyable meet and greet with certif
 ied therapy dogs from Rainbow Animal Assisted Therapy. This informal monthl
 y program offers you the opportunity to interact with the dogs\, learn abou
 t their training\, and watch them show you their special skills. Whether yo
 u're looking for a moment of calm\, a furry friend to brighten your day\, o
 r just curious about therapy dog work\, this is a great chance to connect w
 ith these incredible animals!\n\nhttps://www.rainbowaat.org\n\nRSVP below t
 o register for this in-person program.
LOCATION:215 Revere Dr
URL;VALUE=URI:https://www.cancerwellness.org/events/therapy-dog-meet-and-gr
 eet-37/
END:VEVENT
END:VCALENDAR
