BEGIN:VCALENDAR
VERSION:2.0
PRODID:-//Cancer Wellness Center//Events//EN
CALSCALE:GREGORIAN
METHOD:PUBLISH
BEGIN:VEVENT
DTSTART:20260320T150000Z
DTEND:20260320T160000Z
DTSTAMP:20260422T114536Z
UID:urn:uuid:642fbfa2-92b3-43e2-9118-3f107f4600a2
SUMMARY:Virtual - Gentle Yoga
DESCRIPTION:Gentle Yoga – Fridays with Maribel\n\nYoga uses physical post
 ures\, breath work and meditation to bring mind and body back into a balanc
 ed state. These classes are for all fitness levels and can be practiced in 
 a chair if necessary. The instructor will lead the class without being able
  to give corrections and will offer modifications when appropriate.\n\nCLIC
 K HERE to login to the class via Zoom no more than 15 minutes prior. 
URL;VALUE=URI:https://www.cancerwellness.org/blog/sc_recurring_event/virtua
 l-gentle-yoga-78/
END:VEVENT
END:VCALENDAR
