BEGIN:VCALENDAR
VERSION:2.0
PRODID:-//Cancer Wellness Center//Events//EN
CALSCALE:GREGORIAN
METHOD:PUBLISH
BEGIN:VEVENT
DTSTART:20260420T170000Z
DTEND:20260420T180000Z
DTSTAMP:20260420T045141Z
UID:urn:uuid:10a04642-cba4-40f5-9fe4-c3e1f6786c3f
SUMMARY:Nourishing Sleep
DESCRIPTION:Dr. Baxley will discuss the relationship between sleep and over
 all health\, including the impact of chronic insomnia on the cardiovascular
 \, neurologic\, and immune systems. She will also share holistic strategies
  for improving sleep\, including behavioral\, dietary and herbal solutions.
 \n\nPresented by Dr. Frances Baxley\, MD\, Family and Integrative Medicine\
 nFrances Baxley\, MD – Integrative Family Medicine | Lake Forest\, IL\n\n
 Registration closes at 10:00 am on April 20th.\n\nAn email with log-in inst
 ructions will be sent before the program.
URL;VALUE=URI:https://www.cancerwellness.org/events/virtual-nourishing-slee
 p/
END:VEVENT
END:VCALENDAR
