BEGIN:VCALENDAR
VERSION:2.0
PRODID:-//Cancer Wellness Center//Events//EN
CALSCALE:GREGORIAN
METHOD:PUBLISH
BEGIN:VEVENT
DTSTART:20260423T153000Z
DTEND:20260423T170000Z
DTSTAMP:20260420T045141Z
UID:urn:uuid:727ffcb5-7abf-4b03-84cd-c5d4196bd9d5
SUMMARY:Zentangle
DESCRIPTION:Join us at the Cancer Wellness Center for a relaxing and medita
 tive experience with Zentangle. This simple\, easy-to-learn art form invite
 s you to create beautiful\, structured patterns that flow together\, offeri
 ng a peaceful escape through creativity. Zentangle encourages mindfulness a
 nd self-expression in a fun and stress-free way. No prior art experience is
  needed—just bring your curiosity and a willingness to explore!\n\nPresen
 ted by: Mary Hamming\, CZT\n\nRegister below to attend in-person\n\nLimited
  to 12 people\n\nIf registration is full\, please join the waitlist below t
 o be contacted if space becomes available. \n\nPlease arrive 10 minutes ea
 rly for check in.
LOCATION:215 Revere Dr
URL;VALUE=URI:https://www.cancerwellness.org/events/zentangle-83/
END:VEVENT
END:VCALENDAR
